BEGIN:VCALENDAR
VERSION:2.0
PRODID:-//Nathan Aronow - ECPv5.9.0//NONSGML v1.0//EN
CALSCALE:GREGORIAN
METHOD:PUBLISH
X-WR-CALNAME:Nathan Aronow
X-ORIGINAL-URL:https://aronowmusic.com
X-WR-CALDESC:Events for Nathan Aronow
BEGIN:VTIMEZONE
TZID:America/New_York
BEGIN:DAYLIGHT
TZOFFSETFROM:-0500
TZOFFSETTO:-0400
TZNAME:EDT
DTSTART:20190310T070000
END:DAYLIGHT
BEGIN:STANDARD
TZOFFSETFROM:-0400
TZOFFSETTO:-0500
TZNAME:EST
DTSTART:20191103T060000
END:STANDARD
END:VTIMEZONE
BEGIN:VEVENT
DTSTART;TZID=America/New_York:20190601T100000
DTEND;TZID=America/New_York:20190601T120000
DTSTAMP:20260421T163226
CREATED:20180418T021237Z
LAST-MODIFIED:20190416T060221Z
UID:568-1559383200-1559390400@aronowmusic.com
SUMMARY:Eclectics play Newton Porch Fest!
DESCRIPTION:It’s called “Real music for a fake world”.  The Eclectics’ Vanishing Circus Tour continues at the 2nd Annual Newton Porch Fest. Rogue elements of the legendary Nate Aronow Nextet join forces with the Mike Swinchoski’s redacted “Synthesis” project to form the Eclectics.  Will Brown\, vocals.  Nate Aronow\, vocals and keyboards.  John Schulman\, bass.  Ken Ormes\, guitar.  Barry Lit\, drums.\nNewton Porchfest  2-4pm at the Day’s: 21 Fern St Auburndale.
URL:https://aronowmusic.com/event/eclectics-do-newtons-first-porch-fest/
LOCATION:Day’s House\, 21 Fern St\, Newton\, MA\, 02459\, United States
CATEGORIES:Featured
ORGANIZER;CN="Nathan%20Aronow":MAILTO:info@aronowmusic.com
END:VEVENT
END:VCALENDAR