BEGIN:VCALENDAR
VERSION:2.0
PRODID:-//Nathan Aronow - ECPv5.9.0//NONSGML v1.0//EN
CALSCALE:GREGORIAN
METHOD:PUBLISH
X-WR-CALNAME:Nathan Aronow
X-ORIGINAL-URL:https://aronowmusic.com
X-WR-CALDESC:Events for Nathan Aronow
BEGIN:VTIMEZONE
TZID:America/New_York
BEGIN:DAYLIGHT
TZOFFSETFROM:-0500
TZOFFSETTO:-0400
TZNAME:EDT
DTSTART:20220313T070000
END:DAYLIGHT
BEGIN:STANDARD
TZOFFSETFROM:-0400
TZOFFSETTO:-0500
TZNAME:EST
DTSTART:20221106T060000
END:STANDARD
BEGIN:DAYLIGHT
TZOFFSETFROM:-0500
TZOFFSETTO:-0400
TZNAME:EDT
DTSTART:20230312T070000
END:DAYLIGHT
BEGIN:STANDARD
TZOFFSETFROM:-0400
TZOFFSETTO:-0500
TZNAME:EST
DTSTART:20231105T060000
END:STANDARD
END:VTIMEZONE
BEGIN:VEVENT
DTSTART;TZID=America/New_York:20221231T200000
DTEND;TZID=America/New_York:20230101T000000
DTSTAMP:20260421T162813
CREATED:20221223T034350Z
LAST-MODIFIED:20221223T034649Z
UID:1048-1672516800-1672531200@aronowmusic.com
SUMMARY:Eclectics ring in the New Year at the Mighty Squirrel
DESCRIPTION:Ring in 2023 with the Eclectics at the  Mighty Squirrel Brewing Company .  Join us in the spacious Taproom at  411 Waverley Oaks Road in Waltham — Saturday eve Dec. 31.  Band starts at 8pm and goes right through to midnight.  The Eclectics will be playing their unique brand of original fusion and Pop\, contemporary jazz\, funk and Latin styles  along with some well-known and much-loved “genre favorites”.  We call it “Real Music for a Fake World“.   Nate on piano and vocals\, Erik on bass and vocals\, Ken on guitar and vocals\, Brendan on drums!  No cover charge\, and plenty of free parking.  Freshest Beer in town\, and excellent edibles from fabulous Food Trucks!
URL:https://aronowmusic.com/event/eclectics-ring-in-the-new-year-at-the-mighty-squirrel/
LOCATION:Mighty Squirrel Brewing Co.\, 411 Waverley Oaks Road\, Waltham\, MA\, 02452
CATEGORIES:Featured
END:VEVENT
END:VCALENDAR