BEGIN:VCALENDAR
VERSION:2.0
PRODID:-//Nathan Aronow - ECPv5.9.0//NONSGML v1.0//EN
CALSCALE:GREGORIAN
METHOD:PUBLISH
X-WR-CALNAME:Nathan Aronow
X-ORIGINAL-URL:https://aronowmusic.com
X-WR-CALDESC:Events for Nathan Aronow
BEGIN:VTIMEZONE
TZID:America/New_York
BEGIN:DAYLIGHT
TZOFFSETFROM:-0500
TZOFFSETTO:-0400
TZNAME:EDT
DTSTART:20240310T070000
END:DAYLIGHT
BEGIN:STANDARD
TZOFFSETFROM:-0400
TZOFFSETTO:-0500
TZNAME:EST
DTSTART:20241103T060000
END:STANDARD
END:VTIMEZONE
BEGIN:VEVENT
DTSTART;TZID=America/New_York:20240920T203000
DTEND;TZID=America/New_York:20240920T213000
DTSTAMP:20260415T080617
CREATED:20240620T003241Z
LAST-MODIFIED:20240822T154913Z
UID:1162-1726864200-1726867800@aronowmusic.com
SUMMARY:Friday Night Jazz w/the Nextet at the PostUnderground
DESCRIPTION:The Nextet returns to the POSTunderground\, Brookline’s hottest jazz hang! The Nextet plays “Real music for a fake world”: innovative original jazz\, latin and eKlectYk grooves. The Nextet will play “Set Two” from 8:30-9:30pm\, with a great opening band\, and followed by the fabulous House Band    Three bands — all for one admission charge of $0.00!  Music goes to 11:15 pm. 386 Washington St. Brookline. Nate on Keys\, Kenji Kikuchi: Sax and flute\, Ken Ormes: guitar\, Erik Neldner: Bass\, Brendan Byrnes: Drums. \nNO cover charge\, inexpensive CASH bar\, free snacks\, and nice friendly place to hang!
URL:https://aronowmusic.com/event/friday-night-jazz-w-the-nextet-at-the-postunderground/
LOCATION:PostUnderground\, 386 Washington St\, Brookline\, MA\, 02445
CATEGORIES:Featured
ORGANIZER;CN="Nathan%20Aronow":MAILTO:info@aronowmusic.com
END:VEVENT
END:VCALENDAR