BEGIN:VCALENDAR
VERSION:2.0
PRODID:-//Nathan Aronow - ECPv5.9.0//NONSGML v1.0//EN
CALSCALE:GREGORIAN
METHOD:PUBLISH
X-WR-CALNAME:Nathan Aronow
X-ORIGINAL-URL:https://aronowmusic.com
X-WR-CALDESC:Events for Nathan Aronow
BEGIN:VTIMEZONE
TZID:America/New_York
BEGIN:DAYLIGHT
TZOFFSETFROM:-0500
TZOFFSETTO:-0400
TZNAME:EDT
DTSTART:20220313T070000
END:DAYLIGHT
BEGIN:STANDARD
TZOFFSETFROM:-0400
TZOFFSETTO:-0500
TZNAME:EST
DTSTART:20221106T060000
END:STANDARD
END:VTIMEZONE
BEGIN:VEVENT
DTSTART;TZID=America/New_York:20220703T110000
DTEND;TZID=America/New_York:20220703T123000
DTSTAMP:20260423T000543
CREATED:20220610T173822Z
LAST-MODIFIED:20220610T173822Z
UID:1016-1656846000-1656851400@aronowmusic.com
SUMMARY:Hopkinton Summer Arts Series!
DESCRIPTION:If it’s July — it’s all about Sunday Jazz at the Hopkinton Center for the Arts! Join us in the outdoor amphitheater at 11:00 a.m. for a great jazz session with The Nextet.  Bring a lawn chair or blanket\, snacks\, and sit back and enjoy an hour and a half of outstanding jazz music. In an effort to make the arts accessible for all — the July Jazz concerts will be offered on a PAY-WHAT-YOU-CAN basis. Details are available when you reserve your tickets.   July 3rd at the HCA\,  98 Hayden Rowe Street   Hopkinton\, MA 01748 \nIn the event of rain — the concert will move indoors to the Delbridge Family Performance Space.
URL:https://aronowmusic.com/event/hopkinton-summer-arts-series/
LOCATION:Hopkinton Center for the Arts\, 98 Hayden Rowe St.\, Hopkinton\, MA\, United States
CATEGORIES:Featured
END:VEVENT
END:VCALENDAR