BEGIN:VCALENDAR
VERSION:2.0
PRODID:-//Nathan Aronow - ECPv5.9.0//NONSGML v1.0//EN
CALSCALE:GREGORIAN
METHOD:PUBLISH
X-WR-CALNAME:Nathan Aronow
X-ORIGINAL-URL:https://aronowmusic.com
X-WR-CALDESC:Events for Nathan Aronow
BEGIN:VTIMEZONE
TZID:America/New_York
BEGIN:DAYLIGHT
TZOFFSETFROM:-0500
TZOFFSETTO:-0400
TZNAME:EDT
DTSTART:20230312T070000
END:DAYLIGHT
BEGIN:STANDARD
TZOFFSETFROM:-0400
TZOFFSETTO:-0500
TZNAME:EST
DTSTART:20231105T060000
END:STANDARD
END:VTIMEZONE
BEGIN:VEVENT
DTSTART;TZID=America/New_York:20230101T190000
DTEND;TZID=America/New_York:20230101T220000
DTSTAMP:20260418T124835
CREATED:20221231T172552Z
LAST-MODIFIED:20221231T172746Z
UID:1053-1672599600-1672610400@aronowmusic.com
SUMMARY:Nextet at Middle East Corner Bar
DESCRIPTION:It’s New Year’s Day Night and the Nate Aronow Nextet takes the stage at the legendary Corner Bar of the Middle East Club\,  480 MASS. AVE.\, corner of Brookline St. Central Square\, Cambridge.   Phone: 617-864-3278.  Jazz\, funk\, latin\, originals and genre classics.  Nate\, Erik\, Ken play “Real music for a Fake World”!  Great Middle Eastern and American menu at very reasonable prices.  No cover charge and easy parking.  Restaurant opens at 5pm\, band will start at 7pm.
URL:https://aronowmusic.com/event/nextet-at-middle-east-corner-bar/
LOCATION:Middle East Corner\, 480 Massachusetts Avenue\, Cambridge\, MA\, 02139\, United States
CATEGORIES:Featured
END:VEVENT
END:VCALENDAR