BEGIN:VCALENDAR
VERSION:2.0
PRODID:-//Nathan Aronow - ECPv5.9.0//NONSGML v1.0//EN
CALSCALE:GREGORIAN
METHOD:PUBLISH
X-WR-CALNAME:Nathan Aronow
X-ORIGINAL-URL:https://aronowmusic.com
X-WR-CALDESC:Events for Nathan Aronow
BEGIN:VTIMEZONE
TZID:America/New_York
BEGIN:DAYLIGHT
TZOFFSETFROM:-0500
TZOFFSETTO:-0400
TZNAME:EDT
DTSTART:20210314T070000
END:DAYLIGHT
BEGIN:STANDARD
TZOFFSETFROM:-0400
TZOFFSETTO:-0500
TZNAME:EST
DTSTART:20211107T060000
END:STANDARD
END:VTIMEZONE
BEGIN:VEVENT
DTSTART;TZID=America/New_York:20210710T143000
DTEND;TZID=America/New_York:20210710T153000
DTSTAMP:20260418T152450
CREATED:20190822T062442Z
LAST-MODIFIED:20210624T010702Z
UID:788-1625927400-1625931000@aronowmusic.com
SUMMARY:Nextet plays Newton Festival for the Arts
DESCRIPTION:The Nate Aronow Nextet — “Real Music for a Fake World” — will be participating in Newton Community Pride’s “Linda Plaut Festival of the Arts” and is one of 20 live performances over two days at three locations across Newton. The performance is at the Suzuki School 1615 Beacon St.  Waban MA.   2:30-3:30  Exciting set featuring our wild vocal and instrumental jazz\, latin and R&B originals and covers.  Nate on Keys\, Kenji Kikuchi: Sax and flute\, Ken Ormes: guitar\, Tal Shalom-Kobi: Bass\, Mark Fairweather: Drums. Free and open to the public\, outside on the porch!\nThank you to our festival sponsors\, Newton Community Pride and their Presenting Sponsor The Village Bank.  The Linda Plaut Festival of the Arts has been awarded a 2021 Festival Grant from the Mass Cultural Council and several performers have received performance grants from the Newton Cultural Council.\nFor a complete schedule & locations\, visit newton-festival-of-the-arts
URL:https://aronowmusic.com/event/nextet-at-post-underground-set-one/
LOCATION:Suzuki School\, 1615 Beacon St.\, Newton\, 02468
CATEGORIES:Featured
ORGANIZER;CN="Nathan%20Aronow":MAILTO:info@aronowmusic.com
END:VEVENT
END:VCALENDAR