BEGIN:VCALENDAR
VERSION:2.0
PRODID:-//Nathan Aronow - ECPv5.9.0//NONSGML v1.0//EN
CALSCALE:GREGORIAN
METHOD:PUBLISH
X-WR-CALNAME:Nathan Aronow
X-ORIGINAL-URL:https://aronowmusic.com
X-WR-CALDESC:Events for Nathan Aronow
BEGIN:VTIMEZONE
TZID:America/New_York
BEGIN:DAYLIGHT
TZOFFSETFROM:-0500
TZOFFSETTO:-0400
TZNAME:EDT
DTSTART:20230312T070000
END:DAYLIGHT
BEGIN:STANDARD
TZOFFSETFROM:-0400
TZOFFSETTO:-0500
TZNAME:EST
DTSTART:20231105T060000
END:STANDARD
END:VTIMEZONE
BEGIN:VEVENT
DTSTART;TZID=America/New_York:20230519T193000
DTEND;TZID=America/New_York:20230519T203000
DTSTAMP:20260422T160843
CREATED:20220506T200630Z
LAST-MODIFIED:20230428T141529Z
UID:1004-1684524600-1684528200@aronowmusic.com
SUMMARY:Nextet at PostUnderground
DESCRIPTION:The Nate Aronow Nextet returns to the POSTunderground\, Brookline’s hottest jazz hang. The Nextet plays “Real music for a fake world”: original jazz\, latin and eclectic grooves. The Nextet will do “Set One” from 7:30-8:30pm\, with two fabulous bands to follow.  Music goes to 11:15 pm. 386 Washington St. Brookline. Nate on Keys\, Doug Sondak: Sax and flute\, Ken Ormes: guitar\, Erik Nelder: Bass\, Brendan Byrnes: Drums. NO cover charge\, inexpensive CASH bar\, and free snacks!
URL:https://aronowmusic.com/event/nextet-at-postunderground/
LOCATION:PostUnderground\, 386 Washington St\, Brookline\, MA\, 02445
CATEGORIES:Featured
ORGANIZER;CN="Nathan%20Aronow":MAILTO:info@aronowmusic.com
END:VEVENT
END:VCALENDAR