BEGIN:VCALENDAR
VERSION:2.0
PRODID:-//Nathan Aronow - ECPv5.9.0//NONSGML v1.0//EN
CALSCALE:GREGORIAN
METHOD:PUBLISH
X-WR-CALNAME:Nathan Aronow
X-ORIGINAL-URL:https://aronowmusic.com
X-WR-CALDESC:Events for Nathan Aronow
BEGIN:VTIMEZONE
TZID:America/New_York
BEGIN:DAYLIGHT
TZOFFSETFROM:-0500
TZOFFSETTO:-0400
TZNAME:EDT
DTSTART:20180311T070000
END:DAYLIGHT
BEGIN:STANDARD
TZOFFSETFROM:-0400
TZOFFSETTO:-0500
TZNAME:EST
DTSTART:20181104T060000
END:STANDARD
END:VTIMEZONE
BEGIN:VEVENT
DTSTART;TZID=America/New_York:20180524T160000
DTEND;TZID=America/New_York:20180524T190000
DTSTAMP:20260421T155224
CREATED:20180418T005307Z
LAST-MODIFIED:20180418T005731Z
UID:564-1527177600-1527188400@aronowmusic.com
SUMMARY:Nextet at Ryles Jazz Club
DESCRIPTION:212 Hampshire St. Inman Sq. Cambridge 8-11pm\nFull Six-piece band at Boston’s best Local jazz club! $10 Cover\nRyles is closing in June\, so check us out for the last time ever on the Ryles stage!\nNate: Keys\, Doug Soudak: sax and flute\, Stan Johnson: trumpet\, Thom Cox: guitar\, Dave Mercure: bass\, Brendan Byrnes: drums.     Ryles Jazz Club
URL:https://aronowmusic.com/event/nextet-at-ryles-jazz-club-3/
CATEGORIES:Featured
ORGANIZER;CN="Nathan%20Aronow":MAILTO:info@aronowmusic.com
END:VEVENT
END:VCALENDAR