BEGIN:VCALENDAR
VERSION:2.0
PRODID:-//Nathan Aronow - ECPv5.9.0//NONSGML v1.0//EN
CALSCALE:GREGORIAN
METHOD:PUBLISH
X-WR-CALNAME:Nathan Aronow
X-ORIGINAL-URL:https://aronowmusic.com
X-WR-CALDESC:Events for Nathan Aronow
BEGIN:VTIMEZONE
TZID:America/New_York
BEGIN:DAYLIGHT
TZOFFSETFROM:-0500
TZOFFSETTO:-0400
TZNAME:EDT
DTSTART:20180311T070000
END:DAYLIGHT
BEGIN:STANDARD
TZOFFSETFROM:-0400
TZOFFSETTO:-0500
TZNAME:EST
DTSTART:20181104T060000
END:STANDARD
END:VTIMEZONE
BEGIN:VEVENT
DTSTART;TZID=America/New_York:20181118T090000
DTEND;TZID=America/New_York:20181118T100000
DTSTAMP:20260422T202300
CREATED:20181016T064409Z
LAST-MODIFIED:20181117T084522Z
UID:690-1542531600-1542535200@aronowmusic.com
SUMMARY:Nextet at the Newton Main Library
DESCRIPTION:Please join us to hear the Nate Aronow Nextet perform at 2pm at the Newton Main Library on Homer St. in Newton Center. The Nextet will play many of their most popular original compositions in the contemporary jazz style\, as written and arranged by Nate Aronow\, and a few “not-so-standards” by such jazz greats as Hank Mobley and Freddie Hubbard.   Free and open to the public!\nNathan Aronow piano and compositions\nRobert McCloskey  Tenor Saxophone\nKen Ormes  Guitar\nGreg Maniero Double Bass\nArmond Cohen  Drums
URL:https://aronowmusic.com/event/nextet-at-the-newton-main-library/
LOCATION:Newton Main Library\, 330 Homer Street\, Newton\, MA\, MA\, 02459\, United States
CATEGORIES:Featured
ORGANIZER;CN="Nathan%20Aronow":MAILTO:info@aronowmusic.com
END:VEVENT
END:VCALENDAR