BEGIN:VCALENDAR
VERSION:2.0
PRODID:-//Nathan Aronow - ECPv5.9.0//NONSGML v1.0//EN
CALSCALE:GREGORIAN
METHOD:PUBLISH
X-WR-CALNAME:Nathan Aronow
X-ORIGINAL-URL:https://aronowmusic.com
X-WR-CALDESC:Events for Nathan Aronow
BEGIN:VTIMEZONE
TZID:America/New_York
BEGIN:DAYLIGHT
TZOFFSETFROM:-0500
TZOFFSETTO:-0400
TZNAME:EDT
DTSTART:20180311T070000
END:DAYLIGHT
BEGIN:STANDARD
TZOFFSETFROM:-0400
TZOFFSETTO:-0500
TZNAME:EST
DTSTART:20181104T060000
END:STANDARD
END:VTIMEZONE
BEGIN:VEVENT
DTSTART;TZID=America/New_York:20180513T140000
DTEND;TZID=America/New_York:20180513T170000
DTSTAMP:20260424T011630
CREATED:20180502T050249Z
LAST-MODIFIED:20180502T050459Z
UID:572-1526220000-1526230800@aronowmusic.com
SUMMARY:Nextet Duo at Generations (Private Event)
DESCRIPTION:Dave n’ Nate Awesome Duo entertain at a Mother’s Day Gala event at Generations in Avon\, MA
URL:https://aronowmusic.com/event/nextet-duo-at-generations-private-event/
CATEGORIES:Featured
END:VEVENT
END:VCALENDAR