BEGIN:VCALENDAR
VERSION:2.0
PRODID:-//Nathan Aronow - ECPv5.9.0//NONSGML v1.0//EN
CALSCALE:GREGORIAN
METHOD:PUBLISH
X-WR-CALNAME:Nathan Aronow
X-ORIGINAL-URL:https://aronowmusic.com
X-WR-CALDESC:Events for Nathan Aronow
BEGIN:VTIMEZONE
TZID:America/New_York
BEGIN:DAYLIGHT
TZOFFSETFROM:-0500
TZOFFSETTO:-0400
TZNAME:EDT
DTSTART:20190310T070000
END:DAYLIGHT
BEGIN:STANDARD
TZOFFSETFROM:-0400
TZOFFSETTO:-0500
TZNAME:EST
DTSTART:20191103T060000
END:STANDARD
END:VTIMEZONE
BEGIN:VEVENT
DTSTART;TZID=America/New_York:20190525T130000
DTEND;TZID=America/New_York:20190525T150000
DTSTAMP:20260422T202558
CREATED:20190429T041934Z
LAST-MODIFIED:20190429T042020Z
UID:739-1558789200-1558796400@aronowmusic.com
SUMMARY:Nextet Dynamic Duo perform for New Birth Evangelical Baptist Church
DESCRIPTION:The Nate n’ Dave Dynamic Nextet Duo perform at a fund-raiser for the New Birth Evangelical Baptist Church in Randolph\, MA.  Private event.
URL:https://aronowmusic.com/event/nextet-dynamic-duo-perform-for-new-birth-evangelical-baptist-church/
CATEGORIES:Featured
END:VEVENT
END:VCALENDAR