BEGIN:VCALENDAR
VERSION:2.0
PRODID:-//Nathan Aronow - ECPv5.9.0//NONSGML v1.0//EN
CALSCALE:GREGORIAN
METHOD:PUBLISH
X-WR-CALNAME:Nathan Aronow
X-ORIGINAL-URL:https://aronowmusic.com
X-WR-CALDESC:Events for Nathan Aronow
BEGIN:VTIMEZONE
TZID:America/New_York
BEGIN:DAYLIGHT
TZOFFSETFROM:-0500
TZOFFSETTO:-0400
TZNAME:EDT
DTSTART:20250309T070000
END:DAYLIGHT
BEGIN:STANDARD
TZOFFSETFROM:-0400
TZOFFSETTO:-0500
TZNAME:EST
DTSTART:20251102T060000
END:STANDARD
END:VTIMEZONE
BEGIN:VEVENT
DTSTART;TZID=America/New_York:20251005T144500
DTEND;TZID=America/New_York:20251005T160000
DTSTAMP:20260418T165244
CREATED:20250831T022450Z
LAST-MODIFIED:20250831T022450Z
UID:1223-1759675500-1759680000@aronowmusic.com
SUMMARY:Nextet Headlines:  Newtonville Village Day
DESCRIPTION:The Nate Aronow Nextet grooves in the ‘hood\, playing outdoors on Walnut Street in Newtonville\, MA.  It’s the annual Newtonville Village Day and there is a host of music and all type of entertainment\, food and fun for the whole family.   Free and open to the public.   The Nextet plays “Real music for a fake world”: original and cover jazz\, R&B\, latin and eclectic grooves.  The fun starts at noon!  The Nextet will play 2:45-4:00pm. \nOn Walnut St. in Newtonville\, near the corner of Highland Ave.  See you at Village Day! \nAnd\, we invite you to follow us on Instagram at “nate.nextet”!
URL:https://aronowmusic.com/event/nextet-headlines-newtonville-village-day/
CATEGORIES:Featured
END:VEVENT
END:VCALENDAR