BEGIN:VCALENDAR
VERSION:2.0
PRODID:-//Nathan Aronow - ECPv5.9.0//NONSGML v1.0//EN
CALSCALE:GREGORIAN
METHOD:PUBLISH
X-WR-CALNAME:Nathan Aronow
X-ORIGINAL-URL:https://aronowmusic.com
X-WR-CALDESC:Events for Nathan Aronow
BEGIN:VTIMEZONE
TZID:America/New_York
BEGIN:DAYLIGHT
TZOFFSETFROM:-0500
TZOFFSETTO:-0400
TZNAME:EDT
DTSTART:20210314T070000
END:DAYLIGHT
BEGIN:STANDARD
TZOFFSETFROM:-0400
TZOFFSETTO:-0500
TZNAME:EST
DTSTART:20211107T060000
END:STANDARD
END:VTIMEZONE
BEGIN:VEVENT
DTSTART;TZID=America/New_York:20210626T180000
DTEND;TZID=America/New_York:20210626T193000
DTSTAMP:20260421T154045
CREATED:20190628T032251Z
LAST-MODIFIED:20210505T171308Z
UID:752-1624730400-1624735800@aronowmusic.com
SUMMARY:Nextet plays Hopkinton Sunset Jazz Series
DESCRIPTION:The Nextet plays for the Sunset Jazz Series outdoors at the Hopkinton Center for the Arts.  Bring a blanket and a picnic and enjoy some groovin’ sounds as the sun goes down over Hopkinton.  Free and open the public.  Great way to spend a summer evening! Rain or shine: event will move to live stream in case of rain.  Nate on piano\, Dave Mercure on bass\, Doug Sondak on sax and flute\, Kenji Kikuchi on sax and flute\, Ken Ormes on guitar\, Mark Fairweather on drums.  98 Hayden Rowe St. Hopkinton MA
URL:https://aronowmusic.com/event/nextet-plays-hopkinton-jazz-series/
LOCATION:Hopkinton Center for the Arts\, 98 Hayden Rowe St.\, Hopkinton\, MA\, United States
CATEGORIES:Featured
END:VEVENT
END:VCALENDAR