BEGIN:VCALENDAR
VERSION:2.0
PRODID:-//Nathan Aronow - ECPv5.9.0//NONSGML v1.0//EN
CALSCALE:GREGORIAN
METHOD:PUBLISH
X-WR-CALNAME:Nathan Aronow
X-ORIGINAL-URL:https://aronowmusic.com
X-WR-CALDESC:Events for Nathan Aronow
BEGIN:VTIMEZONE
TZID:America/New_York
BEGIN:DAYLIGHT
TZOFFSETFROM:-0500
TZOFFSETTO:-0400
TZNAME:EDT
DTSTART:20220313T070000
END:DAYLIGHT
BEGIN:STANDARD
TZOFFSETFROM:-0400
TZOFFSETTO:-0500
TZNAME:EST
DTSTART:20221106T060000
END:STANDARD
END:VTIMEZONE
BEGIN:VEVENT
DTSTART;TZID=America/New_York:20220604T160000
DTEND;TZID=America/New_York:20220604T180000
DTSTAMP:20260418T183659
CREATED:20220405T010627Z
LAST-MODIFIED:20220531T191933Z
UID:981-1654358400-1654365600@aronowmusic.com
SUMMARY:Nextet plays Newton Porchfest
DESCRIPTION:The only band that plays “Real Music for a Fake World” will rock out for folks at the Newton Porchfest on the Day family’s porch at 21 Fern St. in Auburndale\, MA. Set time: 4-6PM. There are bands all over the ‘hood from 12-6; details at https://newton.porchfest.info/ . And for those who’d like to add a bike ride to their PorchFest\, check out BikeNewton’s “Tour de PorchFest” from 3-6 at https://www.bikenewton.org/event/tour-de-porchfest-2022/
URL:https://aronowmusic.com/event/nextet-plays-newton-porchfest/
LOCATION:Day’s House\, 21 Fern St\, Newton\, MA\, 02459\, United States
CATEGORIES:Featured
ORGANIZER;CN="Nathan%20Aronow":MAILTO:info@aronowmusic.com
END:VEVENT
END:VCALENDAR