BEGIN:VCALENDAR
VERSION:2.0
PRODID:-//Nathan Aronow - ECPv5.9.0//NONSGML v1.0//EN
CALSCALE:GREGORIAN
METHOD:PUBLISH
X-WR-CALNAME:Nathan Aronow
X-ORIGINAL-URL:https://aronowmusic.com
X-WR-CALDESC:Events for Nathan Aronow
BEGIN:VTIMEZONE
TZID:America/New_York
BEGIN:DAYLIGHT
TZOFFSETFROM:-0500
TZOFFSETTO:-0400
TZNAME:EDT
DTSTART:20210314T070000
END:DAYLIGHT
BEGIN:STANDARD
TZOFFSETFROM:-0400
TZOFFSETTO:-0500
TZNAME:EST
DTSTART:20211107T060000
END:STANDARD
END:VTIMEZONE
BEGIN:VEVENT
DTSTART;TZID=America/New_York:20210919T103000
DTEND;TZID=America/New_York:20210919T123000
DTSTAMP:20260422T051925
CREATED:20210913T182129Z
LAST-MODIFIED:20210913T183430Z
UID:898-1632047400-1632054600@aronowmusic.com
SUMMARY:Nextet plays Tour de Newton Rally
DESCRIPTION:The Tour de Newton is back this year\, and the Nate Aronow Nextet is playing at the post-Ride Rally at Newton City Hall on Sunday morning.  10:30am – 12:30pm.   1000 Comm. Ave\, Newton Center.  Outdoors\, free\, fun and games! Ride your bike!  The Nextet line-up:  Nate: keys and vocals\, Ken Ormes: Guitar and vocals\, Kenji Kikuchi: sax and flute\, Dave Mercure: bass\, Brendan Byrnes: drums.
URL:https://aronowmusic.com/event/nextet-plays-tour-de-newton-rally/
LOCATION:Newton City Hall\, 1000 Commonwealth Ave.\, Newton\, MA\, 02459\, United States
CATEGORIES:Featured
END:VEVENT
END:VCALENDAR