BEGIN:VCALENDAR
VERSION:2.0
PRODID:-//Nathan Aronow - ECPv5.9.0//NONSGML v1.0//EN
CALSCALE:GREGORIAN
METHOD:PUBLISH
X-WR-CALNAME:Nathan Aronow
X-ORIGINAL-URL:https://aronowmusic.com
X-WR-CALDESC:Events for Nathan Aronow
BEGIN:VTIMEZONE
TZID:America/New_York
BEGIN:DAYLIGHT
TZOFFSETFROM:-0500
TZOFFSETTO:-0400
TZNAME:EDT
DTSTART:20210314T070000
END:DAYLIGHT
BEGIN:STANDARD
TZOFFSETFROM:-0400
TZOFFSETTO:-0500
TZNAME:EST
DTSTART:20211107T060000
END:STANDARD
END:VTIMEZONE
BEGIN:VEVENT
DTSTART;TZID=America/New_York:20210926T143000
DTEND;TZID=America/New_York:20210926T160000
DTSTAMP:20260423T120624
CREATED:20210913T191353Z
LAST-MODIFIED:20210913T191741Z
UID:906-1632666600-1632672000@aronowmusic.com
SUMMARY:Nextet Rocks Newtonville Village Day 2021
DESCRIPTION:The Nate Aronow Nextet pulls up it’s piece of asphalt on Walnut St. and blasts off at the Newtonville Village fair.    The Fair runs from 12 noon to 4pm and features food\, booths\, entertainment acts and all kinds of fun.  The Nextet will start at 2:30.  The Nextet line-up:  Nate on keys and vocals\, Ken O. on guitar and vocals\, Kenji K. on sax and flute\, Dave McQ on bass and Mr. Higgins on drums.\nHope to see you there!  Further details here: \nhttps://allevents.in/newton/newtonville-village-day-2021free/10000159067843201
URL:https://aronowmusic.com/event/nextet-rocks-newtonville-village-day-2021/
CATEGORIES:Featured
END:VEVENT
END:VCALENDAR