BEGIN:VCALENDAR
VERSION:2.0
PRODID:-//Nathan Aronow - ECPv5.9.0//NONSGML v1.0//EN
CALSCALE:GREGORIAN
METHOD:PUBLISH
X-WR-CALNAME:Nathan Aronow
X-ORIGINAL-URL:https://aronowmusic.com
X-WR-CALDESC:Events for Nathan Aronow
BEGIN:VTIMEZONE
TZID:America/New_York
BEGIN:DAYLIGHT
TZOFFSETFROM:-0500
TZOFFSETTO:-0400
TZNAME:EDT
DTSTART:20220313T070000
END:DAYLIGHT
BEGIN:STANDARD
TZOFFSETFROM:-0400
TZOFFSETTO:-0500
TZNAME:EST
DTSTART:20221106T060000
END:STANDARD
END:VTIMEZONE
BEGIN:VEVENT
DTSTART;TZID=America/New_York:20220227T130000
DTEND;TZID=America/New_York:20220227T160000
DTSTAMP:20260423T172913
CREATED:20220207T231534Z
LAST-MODIFIED:20220207T233206Z
UID:962-1645966800-1645977600@aronowmusic.com
SUMMARY:Nextet Trio does Brunch at the Mighty Squirrel Brewery
DESCRIPTION:The Nate Aronow Nextet Trio Edition is pleased to entertain you at the very cool Taproom of the Mighty Squirrel Brewing Company — 411 Waverley Oaks Road in Waltham — Sunday Feb. 27 from 1 to 4pm. The Nextet Trio is: Nate — piano and vocals\, Ken Ormes — guitar and vocals and Erik Neldner — bass and vocals. The Nextet will be playing their unique brand of original fusion\, contemporary jazz\, funk and Latin styles (along with some known and much-loved genre favorites) while you sample some of the freshest beer you ever had\, and munch on offerings from MSBC’s curated Food Trucks. No cover charge\, and plenty of free parking. This is a perfect stop for your Sunday afternoon activities!
URL:https://aronowmusic.com/event/nextet-trio-does-brunch-at-the-mighty-squirrel-brewery/
LOCATION:Mighty Squirrel Brewing Co.\, 411 Waverley Oaks Road\, Waltham\, MA\, 02452
CATEGORIES:Featured
ORGANIZER;CN="Nathan%20Aronow":MAILTO:info@aronowmusic.com
END:VEVENT
END:VCALENDAR