BEGIN:VCALENDAR
VERSION:2.0
PRODID:-//Nathan Aronow - ECPv5.9.0//NONSGML v1.0//EN
CALSCALE:GREGORIAN
METHOD:PUBLISH
X-WR-CALNAME:Nathan Aronow
X-ORIGINAL-URL:https://aronowmusic.com
X-WR-CALDESC:Events for Nathan Aronow
BEGIN:VTIMEZONE
TZID:America/New_York
BEGIN:DAYLIGHT
TZOFFSETFROM:-0500
TZOFFSETTO:-0400
TZNAME:EDT
DTSTART:20190310T070000
END:DAYLIGHT
BEGIN:STANDARD
TZOFFSETFROM:-0400
TZOFFSETTO:-0500
TZNAME:EST
DTSTART:20191103T060000
END:STANDARD
END:VTIMEZONE
BEGIN:VEVENT
DTSTART;TZID=America/New_York:20191215T120000
DTEND;TZID=America/New_York:20191215T140000
DTSTAMP:20260418T234052
CREATED:20191114T033603Z
LAST-MODIFIED:20191114T033603Z
UID:814-1576411200-1576418400@aronowmusic.com
SUMMARY:Nextet Trio: Private Holiday Party
DESCRIPTION:The Nextet Trio\, featuring Nate on Keys\, Barry Lit on drums and Pedro Verdugo on bass\,  entertains for residents of the Atelier 505 Condominium on Tremont St. in downtown Boston.  It’s their annual Holiday Party!
URL:https://aronowmusic.com/event/nextet-trio-private-holiday-party/
CATEGORIES:Featured
END:VEVENT
END:VCALENDAR