BEGIN:VCALENDAR
VERSION:2.0
PRODID:-//Nathan Aronow - ECPv5.9.0//NONSGML v1.0//EN
CALSCALE:GREGORIAN
METHOD:PUBLISH
X-WR-CALNAME:Nathan Aronow
X-ORIGINAL-URL:https://aronowmusic.com
X-WR-CALDESC:Events for Nathan Aronow
BEGIN:VTIMEZONE
TZID:America/New_York
BEGIN:DAYLIGHT
TZOFFSETFROM:-0500
TZOFFSETTO:-0400
TZNAME:EDT
DTSTART:20240310T070000
END:DAYLIGHT
BEGIN:STANDARD
TZOFFSETFROM:-0400
TZOFFSETTO:-0500
TZNAME:EST
DTSTART:20241103T060000
END:STANDARD
END:VTIMEZONE
BEGIN:VEVENT
DTSTART;TZID=America/New_York:20240510T203000
DTEND;TZID=America/New_York:20240510T213000
DTSTAMP:20260422T020029
CREATED:20240319T154412Z
LAST-MODIFIED:20240319T154918Z
UID:1142-1715373000-1715376600@aronowmusic.com
SUMMARY:PostUnderground Jazz: Friday Night
DESCRIPTION:The Nextet returns to the POSTunderground\, Brookline’s hottest jazz hang! The Nextet plays “Real music for a fake world”: original jazz\, latin and eclectic grooves. The Nextet will play “Set Two” from 8:30-9:30pm\, with the fabulous House Band to follow.  Opening at 7:30 is the Johnny Horner band.   Three bands!  Music goes to 11:15 pm. 386 Washington St. Brookline. Nate on Keys\, Doug Sondak: Sax and flute\, Ken Ormes: guitar\, Erik Neldner: Bass\, Brendan Byrnes: Drums. NO cover charge\, inexpensive CASH bar\, and free snacks!
URL:https://aronowmusic.com/event/postunderground-jazz-friday-may-10/
LOCATION:PostUnderground\, 386 Washington St\, Brookline\, MA\, 02445
CATEGORIES:Featured
END:VEVENT
END:VCALENDAR