BEGIN:VCALENDAR
VERSION:2.0
PRODID:-//Nathan Aronow - ECPv5.9.0//NONSGML v1.0//EN
CALSCALE:GREGORIAN
METHOD:PUBLISH
X-WR-CALNAME:Nathan Aronow
X-ORIGINAL-URL:https://aronowmusic.com
X-WR-CALDESC:Events for Nathan Aronow
BEGIN:VTIMEZONE
TZID:America/New_York
BEGIN:DAYLIGHT
TZOFFSETFROM:-0500
TZOFFSETTO:-0400
TZNAME:EDT
DTSTART:20190310T070000
END:DAYLIGHT
BEGIN:STANDARD
TZOFFSETFROM:-0400
TZOFFSETTO:-0500
TZNAME:EST
DTSTART:20191103T060000
END:STANDARD
END:VTIMEZONE
BEGIN:VEVENT
DTSTART;TZID=America/New_York:20191109T130000
DTEND;TZID=America/New_York:20191109T170000
DTSTAMP:20260424T211258
CREATED:20190927T062146Z
LAST-MODIFIED:20190927T062146Z
UID:808-1573304400-1573318800@aronowmusic.com
SUMMARY:Private Event: Bar Mitzvah\, Winchester MA
DESCRIPTION:The Nextet Quartet plays for a private event\, a Bar Mitzvah at Temple Shir Tikvah\, Winchester\, MA.
URL:https://aronowmusic.com/event/private-event-bar-mitzvah-winchester-ma/
CATEGORIES:Featured
END:VEVENT
END:VCALENDAR