BEGIN:VCALENDAR
VERSION:2.0
PRODID:-//Nathan Aronow - ECPv5.9.0//NONSGML v1.0//EN
CALSCALE:GREGORIAN
METHOD:PUBLISH
X-WR-CALNAME:Nathan Aronow
X-ORIGINAL-URL:https://aronowmusic.com
X-WR-CALDESC:Events for Nathan Aronow
BEGIN:VTIMEZONE
TZID:America/New_York
BEGIN:DAYLIGHT
TZOFFSETFROM:-0500
TZOFFSETTO:-0400
TZNAME:EDT
DTSTART:20240310T070000
END:DAYLIGHT
BEGIN:STANDARD
TZOFFSETFROM:-0400
TZOFFSETTO:-0500
TZNAME:EST
DTSTART:20241103T060000
END:STANDARD
END:VTIMEZONE
BEGIN:VEVENT
DTSTART;TZID=America/New_York:20240315T190000
DTEND;TZID=America/New_York:20240315T220000
DTSTAMP:20260422T165714
CREATED:20240128T162941Z
LAST-MODIFIED:20240128T162941Z
UID:1133-1710529200-1710540000@aronowmusic.com
SUMMARY:Moldava Restaurant and Cafe
DESCRIPTION:The Nate Aronow Nextet performs for your musical\, dancing and dining pleasure at the Moldava Restaurant and Cafe 344 Watertown St. in Newton. (Tel: 617-916-5245)  The Nextet plays original and cover jazz\, latin\, R&B\, fusion and eclectic grooves from 7pm to 10pm.  $10 cover charge; call for reservations.  Full bar and fine Moldavian fare!  Nate on Keys\, Kenji Kikuchi: Sax and flute\, Ken Ormes: guitar\, Erik Neldner: Bass\, Brendan Byrnes: Drums. Best live music venue in Newton!
URL:https://aronowmusic.com/event/moldava-restaurant-and-cafe/
LOCATION:Moldava Restaurant\, 344 Watertown St.\, Newton\, MA\, 02458\, United States
CATEGORIES:Featured
END:VEVENT
END:VCALENDAR