BEGIN:VCALENDAR
VERSION:2.0
PRODID:-//Nathan Aronow - ECPv5.9.0//NONSGML v1.0//EN
CALSCALE:GREGORIAN
METHOD:PUBLISH
X-WR-CALNAME:Nathan Aronow
X-ORIGINAL-URL:https://aronowmusic.com
X-WR-CALDESC:Events for Nathan Aronow
BEGIN:VTIMEZONE
TZID:America/New_York
BEGIN:DAYLIGHT
TZOFFSETFROM:-0500
TZOFFSETTO:-0400
TZNAME:EDT
DTSTART:20250309T070000
END:DAYLIGHT
BEGIN:STANDARD
TZOFFSETFROM:-0400
TZOFFSETTO:-0500
TZNAME:EST
DTSTART:20251102T060000
END:STANDARD
END:VTIMEZONE
BEGIN:VEVENT
DTSTART;TZID=America/New_York:20250608T190000
DTEND;TZID=America/New_York:20250608T213000
DTSTAMP:20260421T123525
CREATED:20250227T022004Z
LAST-MODIFIED:20250603T153304Z
UID:1188-1749409200-1749418200@aronowmusic.com
SUMMARY:Nextet debuts at Rozzie's Square Root
DESCRIPTION:The Nextet plays its debut performance at the Square Root Cafe in Roslindale Center (2 Corinth St. Boston\, MA).    We’ll be grooving out from 7-9:30pm.  Very comfortable and friendly neighborhood hang\, with all manner of delicious cafe offerings\, plus wine and beer.  Check us out!  $10 cover at the door. \nAnd!  Follow us on Instagram @  Nate.Nextet
URL:https://aronowmusic.com/event/nextet-debuts-at-rozzies-square-root/
LOCATION:Square Root Cafe Roslindale Ma\, 2 Corinth St.\, Boston\, MA\, United States
CATEGORIES:Featured
END:VEVENT
END:VCALENDAR