BEGIN:VCALENDAR
VERSION:2.0
PRODID:-//Nathan Aronow - ECPv5.9.0//NONSGML v1.0//EN
CALSCALE:GREGORIAN
METHOD:PUBLISH
X-WR-CALNAME:Nathan Aronow
X-ORIGINAL-URL:https://aronowmusic.com
X-WR-CALDESC:Events for Nathan Aronow
BEGIN:VTIMEZONE
TZID:America/New_York
BEGIN:DAYLIGHT
TZOFFSETFROM:-0500
TZOFFSETTO:-0400
TZNAME:EDT
DTSTART:20260308T070000
END:DAYLIGHT
BEGIN:STANDARD
TZOFFSETFROM:-0400
TZOFFSETTO:-0500
TZNAME:EST
DTSTART:20261101T060000
END:STANDARD
END:VTIMEZONE
BEGIN:VEVENT
DTSTART;TZID=America/New_York:20260320T203000
DTEND;TZID=America/New_York:20260320T213000
DTSTAMP:20260420T210251
CREATED:20260113T020543Z
LAST-MODIFIED:20260113T020543Z
UID:1251-1774038600-1774042200@aronowmusic.com
SUMMARY:POSTunderground Friday Night 8:30
DESCRIPTION:The Nate Aronow Nextet plays at the POSTunderground\, Brookline’s hottest jazz hang. The Nextet plays “Real music for a fake world”: original and cover jazz\, latin and eclectic grooves. The Nextet will play “Set Two” from 8:30-9:30pm\, with the fabulous House Band to follow. Music starts at 7:30 with a great opening band. Three bands. all for the low price of Free! (Donations accepted) Music goes to 11:15 pm. Address: 386 Washington St. Downstairs\, Brookline MA.\n\nNate on Keys\, Kenji Kikuchi : Sax and flute\, Ken Ormes: guitar\, Erik Neldner: Bass\, Brendan Byrnes: Drums. NO cover charge\, inexpensive CASH bar\, and free snacks\, and real nice PPL. What’s not to like? Downstairs at the Brookline VFW\, where “it’s more elegant than you’d expect…. and it’s always 3am”.
URL:https://aronowmusic.com/event/postunderground-friday-night-830/
LOCATION:PostUnderground\, 386 Washington St\, Brookline\, MA\, 02445
CATEGORIES:Featured
END:VEVENT
END:VCALENDAR