BEGIN:VCALENDAR
VERSION:2.0
PRODID:-//Nathan Aronow - ECPv5.9.0//NONSGML v1.0//EN
CALSCALE:GREGORIAN
METHOD:PUBLISH
X-WR-CALNAME:Nathan Aronow
X-ORIGINAL-URL:https://aronowmusic.com
X-WR-CALDESC:Events for Nathan Aronow
BEGIN:VTIMEZONE
TZID:America/New_York
BEGIN:DAYLIGHT
TZOFFSETFROM:-0500
TZOFFSETTO:-0400
TZNAME:EDT
DTSTART:20230312T070000
END:DAYLIGHT
BEGIN:STANDARD
TZOFFSETFROM:-0400
TZOFFSETTO:-0500
TZNAME:EST
DTSTART:20231105T060000
END:STANDARD
END:VTIMEZONE
BEGIN:VEVENT
DTSTART;TZID=America/New_York:20230709T130000
DTEND;TZID=America/New_York:20230709T150000
DTSTAMP:20260423T062947
CREATED:20220212T232438Z
LAST-MODIFIED:20221223T035113Z
UID:971-1688907600-1688914800@aronowmusic.com
SUMMARY:Nextet live at Exhibit 'A' Brewing Company
DESCRIPTION:The Nate Aronow Nextet returns to the Exhibit ‘A’ Brewing Co.\, 81 Morton Street  in Framingham MA.   Jazz\, funk\, latin\, originals and genre classics.  The freshest brew and delectable edibles available for your Sunday brunching. No cover charge and easy parking.   Sunday July 9th\,  1-3pm.
URL:https://aronowmusic.com/event/nextet-live-at-exhibit-a-brewing-company/
LOCATION:Exhibit ‘A’ Brewing Company\, 81 Morton St.\, Framingham\, MA\, 01702
CATEGORIES:Featured
END:VEVENT
END:VCALENDAR