BEGIN:VCALENDAR
VERSION:2.0
PRODID:-//Nathan Aronow - ECPv5.9.0//NONSGML v1.0//EN
CALSCALE:GREGORIAN
METHOD:PUBLISH
X-WR-CALNAME:Nathan Aronow
X-ORIGINAL-URL:https://aronowmusic.com
X-WR-CALDESC:Events for Nathan Aronow
BEGIN:VTIMEZONE
TZID:America/New_York
BEGIN:DAYLIGHT
TZOFFSETFROM:-0500
TZOFFSETTO:-0400
TZNAME:EDT
DTSTART:20230312T070000
END:DAYLIGHT
BEGIN:STANDARD
TZOFFSETFROM:-0400
TZOFFSETTO:-0500
TZNAME:EST
DTSTART:20231105T060000
END:STANDARD
END:VTIMEZONE
BEGIN:VEVENT
DTSTART;TZID=America/New_York:20230910T150000
DTEND;TZID=America/New_York:20230910T160000
DTSTAMP:20260423T025610
CREATED:20230815T014726Z
LAST-MODIFIED:20230831T172156Z
UID:1085-1694358000-1694361600@aronowmusic.com
SUMMARY:Fall Village Concert Series - Newton
DESCRIPTION:The Nextet is pleased to perform for the Fall Village Concert Series  in Newton\, MA.   Sunday Sept. 10\, 3-4 pm.  We’ll be playing outdoors at the Auburndale Community Library.   This event is brought to you by Newton Community Pride.   Free and open to the public.  In case of rain\, don’t worry — music will move indoors!
URL:https://aronowmusic.com/event/september-song-outdoor-concert-series/
LOCATION:Auburndale Community Library\, 375 Auburn Street\, Newton\, MA\, 02466\, United States
CATEGORIES:Featured
ORGANIZER;CN="Nathan%20Aronow":MAILTO:info@aronowmusic.com
END:VEVENT
END:VCALENDAR